Workbook

Sheet Rollover
A1: Annexure C
A2: PROJECT STATUS REPORT - ROLLED OVER PROJECTS
A3: 40840
A5: PROJ NO | B5: PROJECT NAME | C5: PROJ YEAR | D5: Operating | E5: Capital | F5: BUDGET AMOUNT | G5: PAID P/YEARS | H5: UNSPENT AT 30 JUNE 2011 | I5: SPENT 11/12 YEAR | J5: REMAINING | K5: Savings Oct 2011 | L5: LAST PMT | M5: RESP MAN | N5: COMMENTS BY MANAGER
A7: 1 | B7: Municipal Environmental Health & Environmental Management
A8: SE-05 | B8: Waste Management - development of landfill sites - initiation of partnerships | C8: 2011 | F8: =1000000-73641 -> 926359 | G8: =F8-H8 -> 390674.72 | H8: 535684.28 | I8: =+H8-J8 -> 535684.28 | J8: 0 | L8: 40779 | M8: SDCS | N8: Project completed.
A9: SE-13 | B9: Air Quality Emissions Inventory | C9: 2011 | D9: =F9 -> 320735 | F9: =500000-179265 -> 320735 | G9: =F9-H9 -> 288984.92 | H9: 31750.08 | I9: =+H9-J9 -> 0 | J9: 31750.08 | M9: SDCS | N9: Project completed in June 2011, the remaining funds is for aftercare.
F10: =SUM(F8:F9) -> 1247094 | G10: =SUM(G8:G9) -> 679659.64 | H10: =SUM(H8:H9) -> 567434.36 | I10: =SUM(I8:I9) -> 535684.28 | J10: =SUM(J8:J9) -> 31750.08
A12: 2 | B12: DISASTER MANAGEMENT
A13: DM-02 | B13: Lephalale Disaster Centre Environmental Impact Assessment | C13: 2010 | E13: =H13 -> 36555 | F13: =2445352+138909-17059 -> 2567202 | G13: =F13-H13 -> 2530647 | H13: 36555 | I13: =#N/A -> #N/A | J13: 0 | L13: 40772 | M13: PED | N13: Project complete.
A14: DM-08 | B14: Mogalakwena - new Rescue Pumper | C14: 2011 | E14: =F14 -> 3497733 | F14: =4100000-9630-145000-447637 -> 3497733 | G14: =F14-H14 -> 3539.71 | H14: 3494193.3 | I14: =#N/A -> #N/A | J14: 1747096.5 | L14: 40836 | M14: MMO | N14: The 50% payment after the 1st site inspection was conducted by Messrs. D M Sithole, T van Deventer and J vander Merwe in the USA, Florida State, Ocala E-ONE Plant. The 4X4 Major Urban Rescue Pumper is 100% complete waiting to be shipped to South Africa.
A15: DM-17 | B15: Bela Bela Skid Units & Equipment for main fire station, Masakhane, Pienaarsrivier & Rapotokwane | C15: 2011 | E15: =F15 -> 1285759 | F15: =1031200+9630+244929 -> 1285759 | G15: =F15-H15 -> 665078.59 | H15: 620680.41 | I15: =#N/A -> #N/A | J15: 0 | L15: 40836 | M15: MMO | N15: Project complete.
A16: DM-22 | B16: Incident Management System | C16: 2011 | E16: =F16 -> 307218 | F16: =380000-72782 -> 307218 | G16: =#N/A -> #N/A | H16: 100000.4 | I16: =#N/A -> #N/A | J16: 0 | L16: 40770 | M16: MMO | N16: Project complete.
A17: DM-23 | B17: Disaster Risk Awareness Program | C17: 2011 | D17: =F17 -> 119780 | F17: =75000+76000-31220 -> 119780 | G17: =#N/A -> #N/A | H17: 12500.73 | I17: =+H17-J17 -> 12500.73 | J17: 0 | L17: 40753 | M17: MMO | N17: Project complete.
A18: DM-24 | B18: Early Warning System of Flood lines | C18: 2011 | E18: =F18 -> 614218 | F18: =760000-76000-69782 -> 614218 | G18: =#N/A -> #N/A | H18: 210568.83 | I18: =#N/A -> #N/A | J18: 54342.51 | L18: 40814 | M18: MMO | N18: Project complete.
A19: DM-25 | B19: Disaster Risk Management Toll Free Number & promotional signage | C19: 2011 | D19: =F19 -> 500000 | F19: 500000 | G19: =#N/A -> #N/A | H19: 497782.4 | I19: =#N/A -> #N/A | J19: 496151.54 | L19: 40812 | M19: MMO | N19: Limitted bidding approved by MM for appointing Telkom SA for the development of a Toll Free number. Delays are caused by Telkom. Promotional Signage's re-advert closed on 29 August 2011 , was Evaluated on 06 October 2011 and awaiting to be tabled before the Bid Adjudication Committee (BAC).
A20: DM-26 | B20: Information management, communication & dissemination system | C20: 2011 | E20: =F20 -> 900000 | F20: =1000000-100000 -> 900000 | G20: =#N/A -> #N/A | H20: 544667.74 | I20: =#N/A -> #N/A | J20: 135153.73 | L20: 40784 | M20: MMO | N20: The project is completed. final invoice paid. This includes a 3 years maintanance/support services to be done for the UNITI System by Disaster Management Solutions (DMS) .
A21: DM-27 | B21: Risk reduction measures for drought | C21: 2011 | D21: =F21 -> 624987 | F21: =440000+184987 -> 624987 | G21: =#N/A -> #N/A | H21: 619229.69 | I21: =#N/A -> #N/A | J21: 309614.3 | L21: 40806 | M21: MMO | N21: The Contractor Mr. M W Sebela passed away on 5 October 2011. Thus far 2 Boreholes at Mokopane (Segole & Sodoma) and 2 Boreholes at Lephalale (Ga-Seleka & Madibaneng) were completed. They were working on completing the last 2 Boreholes at Thabazimbi (Regorogile) and Mogalakwena (Mapela). Project expiry date was Friday, 07 October 2011, application for 1X month extension period received 3 October was approved by MM before his sudden death. Memo written to MM 19 October 2011 for his further advice and direction in this regard to ensure that this project if fully completed.
A22: DM-29 | B22: Groblersbrug Port of Entry / Tom Burke Satellite Fire Station - Water Trailer & Equipm & Steenbokpan & Bulgerivier Satellite Fire Station - Water Trailer & Equipment & Villages / Witpoort Fire Station - Equipment | C22: 2011 | E22: =F22 -> 242600 | F22: =166500+67400+8700 -> 242600 | G22: =#N/A -> #N/A | H22: 179920.28 | I22: =#N/A -> #N/A | J22: 179920.28 | M22: MMO | N22: Invitation was placed on the WDM notice board for the 2X Ultra High Pressure Fire Fighting Skid Units for Lephalale local municipality, SCM evaluated, but 90Days validity period expired before project was approved. Project has been re-advertised on WDM notice board.
F23: =SUM(F13:F22) -> 10659497 | G23: =SUM(G13:G22) -> #N/A | H23: =SUM(H13:H22) -> 6316098.8 | I23: =SUM(I13:I22) -> #N/A | J23: =SUM(J13:J22) -> 2922278.8
A25: 3 | B25: Fire Fighting
A26: IN-22 | B26: Upgrading of existing trained volunteers to minimum requirements for full time fire fighters (phase 2) | C26: 2011 | D26: =F26 -> 100000 | F26: 100000 | G26: =F26-H26 -> 0 | H26: 100000 | I26: =+H26-J26 -> 96875 | J26: 3125 | L26: 40794 | M26: CSSS | N26: The service provider has been appointed to do the training and the shortfall will be defrayed from the MSIG vote and implementation commenced in October 2011.
F27: =SUM(F26) -> 100000 | G27: =SUM(G26) -> 0 | H27: =SUM(H26) -> 100000 | I27: =SUM(I26) -> 96875 | J27: =SUM(J26) -> 3125
A29: 4 | B29: Local Economic Development & Tourism
A30: UE-34 | B30: Feasibility Study of the Wildlife Centre | C30: 2008 | D30: =H30 -> 399255.63 | F30: 3000000 | G30: =F30-H30 -> 2600744.4 | H30: 399255.63 | I30: =+H30-J30 -> 0 | J30: 399255.63 | M30: PED | N30: Feasibility Study complete. PED has requested permission from OTP to transfer the remaining savings to Beautification of Vaalwater project, no response yet.
A31: UE-42 | B31: Signage | C31: 2009 & 2010 | D31: =H31 -> 79867.08 | F31: =750000+18350+35000 -> 803350 | G31: =F31-H31 -> 723482.92 | H31: =79867.08 -> 79867.08 | I31: =+H31-J31 -> 0 | J31: 79867.08 | M31: PED | N31: Project complete. The savings will be used for Billboard hire, completed the specifications and ready for notice board and website advert.
A32: UE-43 | B32: Modimolle & Bela Bela Security Cameras | C32: 2010 | D32: =H32 -> 520000 | F32: 800000 | G32: =F32-H32 -> 280000 | H32: 520000 | I32: =+H32-J32 -> 60000 | J32: 460000 | L32: 40765 | M32: PED | N32: Modimolle Security Cameras installed and operational. Still awaiting Bela Bela Municipality to come on board for installation of cameras in their town. PED sent them a letter requesting their project plan, no response yet. WDM's MM will facilitate a meeting with Bela Bela Municipality's MM to come up with the wayfoward.
F33: =SUM(F30:F32) -> 4603350 | G33: =SUM(G30:G32) -> 3604227.3 | H33: =SUM(H30:H32) -> 999122.71 | I33: =SUM(I30:I32) -> 60000 | J33: =SUM(J30:J32) -> 939122.71
A35: 5 | B35: ROADS & STORM WATER
A36: RS-21 | B36: Completion of Modimolle Ring Road in Phagameng - 1,603km | C36: 2010 & 2011 | D36: =H36 -> 2395734.4 | F36: =2100000+377956-247795+459920 -> 2690081 | G36: =F36-H36 -> 294346.65 | H36: =1935814.35+459920 -> 2395734.4 | I36: =+H36-J36 -> 1827123.3 | J36: 568611.05 | L36: 40833 | M36: ID | N36: Project Completed. Amount outstanding is for contingencies until snaglist is completed plus 5% retention for 12 months.
A37: RS-40 | B37: Bela Bela Paving - Radium - 1.3km | C37: 2011 | D37: =F37 -> 2740093 | F37: =2375000+688978-323885 -> 2740093 | G37: =F37-H37 -> 920455.9 | H37: 1819637.1 | I37: =+H37-J37 -> 1592047.3 | J37: 227589.83 | L37: 40812 | M37: ID | N37: Project Completed. Amount outstanding is for contingencies until snaglist is completed plus 5% retention for 12 months.
A38: RS041 | B38: Mogalakwena Streets tarring | C38: 2010 & 2011 | F38: =247795+2900117 -> 3147912 | G38: =F38-H38 -> 448277.62 | H38: 2699634.4 | I38: =+H38-J38 -> 1097202.8 | J38: 1602431.6 | L38: 40820 | M38: ID | N38: Project Completed. Awaiting for last invoice and remaining amount outstanding is for contingencies until snaglist is completed plus protective clothing plus 5% retention for 12 months.
F39: =SUM(F36:F38) -> 8578086 | G39: =SUM(G36:G38) -> 1663080.2 | H39: =SUM(H36:H38) -> 6915005.8 | I39: =SUM(I36:I38) -> 4516373.3 | J39: =SUM(J36:J38) -> 2398632.5
A41: 6 | B41: Municipal Support & Institutional Development
A42: IN-17 | B42: Procurement of Movable Assets | C42: 2011 | E42: =F42 -> 574090 | F42: =500000+100000-25910 -> 574090 | G42: =F42-H42 -> 545819.53 | H42: 28270.47 | I42: =+H42-J42 -> 28270.47 | J42: 0 | L42: 40750 | M42: CSSS | N42: Project complete.
A43: IN-24 | B43: Performance Management System (PMS) | C43: 2011 | D43: =F43 -> 938385 | F43: =1000000-61615 -> 938385 | G43: =F43-H43 -> 861679.7 | H43: 76705.3 | I43: =+H43-J43 -> 0 | J43: 76705.3 | M43: MMO | N43: Still awaiting firnal invoices to be submitted by IPM for 10/11 year work done.
A44: IN-27 | B44: Integrated Financial Management System | C44: 2010 & 2011 | E44: =H44 -> 6273639.4 | F44: =200000+6086945 -> 6286945 | G44: =F44-H44 -> 13305.6 | H44: =186694.4+6086945 -> 6273639.4 | I44: =+H44-J44 -> 0 | J44: =186694.4+6086945 -> 6273639.4 | K44: 31000 | M44: CSSS | N44: Appointed Munsoft for supply of the IFMS for WDM, Bela Bela & Thabazimbi following SCM Regulations 32 procurement using the public tender of another organ of state in September & October 2011. Modimolle LM has also appointed Munsoft for their IFMS in June 2011. Approached Lephalale LM for the next phase of the roll-out, still awaiting confirmation.
A45: IN-34 | B45: Geographic Information System (GIS) | C45: 2011 | E45: =F45 -> 649806 | F45: =1000000-350194 -> 649806 | G45: =F45-H45 -> 589266.1 | H45: 60539.9 | I45: =+H45-J45 -> 29539.5 | J45: 31000.4 | K45: -31000 | L45: 40812 | M45: CSSS | N45: Project complete. Remaining funds to be transferred to IFMS to procure Disaster Modules for LMs. There is currently a shortfall on IFMS for this purpose.
A46: IN-36 | B46: Financial Strategy | C46: 2011 | D46: =F46 -> 500000 | F46: 500000 | G46: =F46-H46 -> 0 | H46: 500000 | I46: =+H46-J46 -> 0 | J46: 500000 | M46: BTO | N46: A number of institutions were contacted for specs since municipalities haven't done this yet. Specifications has been sourced, all will be reviewed & combined to our needs. Since the project was recommended by IPM, we will first review whether there is still a need to continue with this project.
F47: =SUM(F42:F46) -> 8949226 | G47: =SUM(G42:G46) -> 2010070.9 | H47: =SUM(H42:H46) -> 6939155.1 | I47: =SUM(I42:I46) -> 57809.97 | J47: =SUM(J42:J46) -> 6881345.1
...

Sheet Projects
A1: IDP Project Summary Report - 2019/20 IDP projects and roll overs from prior years | T1: ANNEXURE 3
A3: 1
A4: PROJ NO | B4: PROJECT NAME | C4: PROJ YEAR | D4: Operating | E4: Capital | F4: 2018/19 Roll Over | G4: 2019/20 IDP | H4: 2020/21 IDP | I4: 2021/22 IDP | J4: Total Budget | L4: Wishlist | M4: Adjustment | N4: Adjusted Budget | O4: PAID 17/18 YEAR | P4: REMAINING | Q4: Savings / Transfers | R4: Date paid | S4: RESP MAN | T4: Comment
A6: 1 | B6: Municipal Environmental Health & Environmental Management
A7: SE013 | B7: Air quality monitoring | C7: 2018 | S7: SDCS
A8: SE013 | B8: ADMS Urban license etc spartial analyst & training | C8: 2018 | S8: SDCS
A9: 1.1 | B9: Ambient Air Quality Monitoring Station | E9: 3000000 | F9: 0 | G9: 0 | H9: 0 | I9: 0 | J9: =SUM(F9:I9) -> 0 | L9: =D9+E9-G9 -> 3000000
A10: 1.2 | B10: Stack Monitoring Equipment | E10: 300000 | F10: 0 | G10: =E10 -> 300000 | H10: 0 | I10: 0 | J10: =SUM(F10:I10) -> 300000 | L10: =D10+E10-G10 -> 0
A11: 1.3 | B11: Instant Sampling Kits for food and water | E11: 500000 | F11: 0 | G11: =E11 -> 500000 | H11: 0 | I11: 0 | J11: =SUM(F11:I11) -> 500000 | L11: =D11+E11-G11 -> 0
D12: =SUM(D9:D11) -> 0 | E12: =SUM(E9:E11) -> 3800000 | F12: =SUM(F9:F11) -> 0 | G12: =SUM(G9:G11) -> 800000 | H12: =SUM(H9:H11) -> 0 | I12: =SUM(I9:I11) -> 0 | J12: =SUM(J9:J11) -> 800000 | L12: =SUM(L9:L11) -> 3000000 | M12: =SUM(M7:M8) -> 0 | N12: =SUM(N7:N8) -> 0 | O12: =SUM(O7:O8) -> 0 | P12: =SUM(P7:P8) -> 0 | Q12: =SUM(Q7:Q8) -> 0
A14: 2 | B14: Disaster Management: Fire Fighting
A15: 2.1 | B15: Renovation of Bela-Bela Fire Station | E15: 2000000 | F15: 0 | G15: 1750000 | H15: 1000000 | I15: 0 | J15: =SUM(F15:I15) -> 2750000 | L15: 0
A16: 2.2 | B16: Review of the Waterberg Disaster and Risk Management Plan | D16: 500000 | E16: 0 | F16: 0 | G16: 500000 | H16: 0 | I16: 0 | J16: =SUM(F16:I16) -> 500000 | L16: =D16+E16-G16 -> 0
A17: 2.3 | B17: Humanitarian Relief Materials | D17: 600000 | E17: 0 | F17: 0 | G17: 600000 | H17: 0 | I17: 0 | J17: =SUM(F17:I17) -> 600000 | L17: =D17+E17-G17 -> 0
D18: =SUM(D15:D17) -> 1100000 | E18: =SUM(E15:E17) -> 2000000 | F18: =SUM(F15:F17) -> 0 | G18: =SUM(G15:G17) -> 2850000 | H18: =SUM(H15:H17) -> 1000000 | I18: =SUM(I15:I17) -> 0 | J18: =SUM(J15:J17) -> 3850000 | L18: =SUM(L15:L17) -> 0 | M18: =SUM(M15:M16) -> 0 | N18: =SUM(N15:N16) -> 0 | O18: =SUM(O15:O16) -> 0 | P18: =SUM(P15:P16) -> 0 | Q18: =SUM(Q15:Q16) -> 0
A20: 3 | B20: Local Economic Development & Tourism
A21: 3.1 | B21: Coordination of SPLUMA | C21: 2019 | D21: 800000 | F21: 0 | G21: 0 | J21: =SUM(F21:I21) -> 0 | L21: =D21+E21-G21 -> 800000 | S21: PED
A22: 3.2 | B22: Agricultural Development | C22: 2019 | D22: 300000 | F22: 0 | G22: =D22 -> 300000 | J22: =SUM(F22:I22) -> 300000 | L22: =D22+E22-G22 -> 0 | S22: PED
A23: 3.3 | B23: SMME Development | C23: 2019 | D23: 200000 | F23: 0 | G23: 100000 | J23: =SUM(F23:I23) -> 100000 | L23: =D23+E23-G23 -> 100000 | S23: PED
A24: 3.4 | B24: Tourism Development | C24: 2019 | D24: 450000 | F24: 0 | G24: =D24 -> 450000 | J24: =SUM(F24:I24) -> 450000 | L24: =D24+E24-G24 -> 0 | S24: PED
A25: 3.5 | B25: ITP Review | C25: 2019 | D25: 700000 | F25: 0 | G25: 0 | J25: =SUM(F25:I25) -> 0 | L25: =D25+E25-G25 -> 700000 | S25: PED
A26: 3.6 | B26: Development of Functional GIS | C26: 2019 | D26: 250000 | F26: 0 | G26: =D26 -> 250000 | J26: =SUM(F26:I26) -> 250000 | L26: =D26+E26-G26 -> 0 | S26: PED
A27: 3.7 | B27: Review of SDF | C27: 2019 | D27: 700000 | F27: 0 | G27: 350000 | J27: =SUM(F27:I27) -> 350000 | L27: =D27+E27-G27 -> 350000 | S27: PED
A28: 3.8 | B28: LED Coordination | C28: 2019 | D28: 100000 | F28: 0 | G28: =D28 -> 100000 | J28: =SUM(F28:I28) -> 100000 | L28: =D28+E28-G28 -> 0 | S28: PED
A29: 3.9 | B29: Structural Renovations of the Abattoir | C29: 2019 | D29: 0 | E29: 8000000 | F29: 0 | G29: 0 | J29: =SUM(F29:I29) -> 0 | L29: =D29+E29-G29 -> 8000000 | S29: PED
A30: 4 | B30: Abattoir Marketing Campaign | C30: 2019 | D30: 150000 | F30: 0 | G30: 0 | J30: =SUM(F30:I30) -> 0 | L30: =D30+E30-G30 -> 150000 | S30: PED
D31: =SUM(D21:D30) -> 3650000 | E31: =SUM(E21:E30) -> 8000000 | F31: =SUM(F21:F30) -> 0 | G31: =SUM(G21:G30) -> 1550000 | H31: =SUM(H21:H30) -> 0 | I31: =SUM(I21:I30) -> 0 | J31: =SUM(J21:J30) -> 1550000 | L31: =SUM(L21:L30) -> 10100000 | M31: =SUM(M21:M24) -> 0 | N31: =SUM(N21:N24) -> 0 | O31: =SUM(O21:O24) -> 0 | P31: =SUM(P21:P24) -> 0 | Q31: =SUM(Q21:Q24) -> 0
A33: 4 | B33: Infrastructure
A34: 4.1 | B34: Road Asset Management System | C34: 2019 | D34: 2259000 | F34: 0 | G34: 2259000 | H34: 2300000 | I34: 2521000 | J34: =SUM(F34:I34) -> 7080000 | L34: =D34+E34-G34 -> 0 | N34: =+#REF!+M34 -> #REF! | P34: =N34-O34 -> #REF! | S34: ID
A35: 4.2 | B35: EPWP Project | C35: 2019 | D35: 0 | F35: 0 | G35: =D35 -> 0 | H35: 0 | I35: 0 | J35: =SUM(F35:I35) -> 0 | L35: =D35+E35-G35 -> 0 | N35: =+#REF!+M35 -> #REF! | P35: =N35-O35 -> #REF! | S35: ID
A36: 4.3 | B36: Completion of Thabazimbi WWTW | C36: 2019 | D36: 190000 | F36: 0 | G36: 0 | H36: 0 | I36: 0 | J36: =SUM(F36:I36) -> 0 | L36: =D36+E36-G36 -> 190000 | N36: =+#REF!+M36 -> #REF! | P36: =N36-O36 -> #REF! | S36: ID
A37: 4.4 | B37: Completion of MWIG Cluster 2 Modimolle Local Municipality- Mabaleng storage 1,5 ML Pressure Tower | C37: 2019 | D37: 140000 | F37: 0 | G37: 0 | H37: 0 | I37: 0 | J37: =SUM(F37:I37) -> 0 | L37: =D37+E37-G37 -> 140000 | N37: =+#REF!+M37 -> #REF! | P37: =N37-O37 -> #REF! | S37: ID
A38: 4.5 | B38: Planning, design, documentation, refurbishment and monitoring of WDM | C38: 2019 | D38: 0 | E38: 7000000 | F38: 0 | G38: 1028000 | J38: =SUM(F38:I38) -> 1028000 | L38: =D38+E38-G38 -> 5972000
D39: =SUM(D34:D37) -> 2589000 | E39: =SUM(E34:E37) -> 0 | F39: =SUM(F34:F37) -> 0 | G39: =SUM(G34:G37) -> 2259000 | H39: =SUM(H34:H37) -> 2300000 | I39: =SUM(I34:I37) -> 2521000 | J39: =SUM(J34:J37) -> 7080000 | L39: =SUM(L34:L37) -> 330000 | M39: =SUM(M34:M35) -> 0 | N39: =SUM(N34:N35)+1 -> #REF! | O39: =SUM(O34:O35) -> 0 | P39: =#REF!-O39 -> #REF! | Q39: =SUM(Q34:Q35) -> 0
A41: 5 | B41: Municipal Support & Institutional Development
A42: 5.1 | B42: Local Government Financial Management Grant | C42: 2019 | D42: 1000000 | F42: 0 | G42: =D42 -> 1000000 | H42: 1000000 | I42: 1000000 | J42: =SUM(F42:I42) -> 3000000 | L42: =D42+E42-G42 -> 0 | N42: =+#REF!+M42 -> #REF! | P42: =N42-O42 -> #REF! | S42: BTO
A43: 5.2 | B43: IT Equipments | C43: 2019 | E43: 1500000 | F43: 0 | G43: 500000 | J43: =SUM(F43:I43) -> 500000 | L43: =D43+E43-G43 -> 1000000 | N43: =+#REF!+M43 -> #REF! | P43: =N43-O43 -> #REF! | S43: CSSS
A44: 5.3 | B44: Council Pool Cars - Procurement of Fleet | C44: 2019 | E44: 8000000 | F44: 0 | G44: 5000000 | J44: =SUM(F44:I44) -> 5000000 | L44: =D44+E44-G44 -> 3000000 | N44: =+#REF!+M44 -> #REF! | P44: =N44-O44 -> #REF! | S44: CSSS
A45: 5.4 | B45: Office Furniture | C45: 2019 | E45: 1500000 | F45: 0 | G45: 250000 | J45: =SUM(F45:I45) -> 250000 | L45: =D45+E45-G45 -> 1250000 | N45: =+#REF!+M45 -> #REF! | P45: =N45-O45 -> #REF! | S45: CSSS
A46: 5.5 | B46: Fleet Management System | C46: 2019 | D46: 1000000 | F46: 0 | G46: 250000 | H46: 0 | I46: 0 | J46: =SUM(F46:I46) -> 250000 | L46: =D46+E46-G46 -> 750000
...

Sheet SDBIP
A1: SDBIP forecast versus actual expenditure | H1: Annexure D
A2: CAPITAL EXPENDITURE AGAINST SDBIP TARGETS | D2: 43647 | G2: Resp Mng | H2: Variance | I2: Due to: | J2: Savings
D3: Proj IDP | E3: Act Capex | F3: % SPENT
A4: Vote No | B4: Expenditure by Vote (department) | D4: R | E4: R | F4: R
A6: 001 | B6: Budget & Treasury Office | D6: =Projects!G42 -> 1000000 | E6: =Projects!O42 -> 0 | F6: =IFERROR((E6/D6),0) -> 0 | G6: CFO | H6: =100%-F6 -> 1
A7: 002 | B7: Office of the Municipal Manager | D7: =Projects!G56+Projects!G47 -> 336640 | E7: =Projects!O56 -> 0 | F7: =IFERROR((E7/D7),0) -> 0 | G7: MM | H7: =100%-F7 -> 1
A8: 003 | B8: Corporate Support & Shared Services | D8: =Projects!G52-Projects!G38-Projects!G47-Projects!G42 -> 6772000 | E8: 0 | F8: =IFERROR((E8/D8),0) -> 0 | G8: CSSS | H8: =100%-F8 -> 1
A9: 004 | B9: Planning and Economic Development | D9: =Projects!G31-Projects!G30 -> 1550000 | E9: =Projects!O31 -> 0 | F9: =IFERROR((E9/D9),0) -> 0 | G9: MPED | H9: =100%-F9 -> 1
A10: 005 | B10: Infrastructure Development | D10: =Projects!G39+Projects!G38 -> 3287000 | E10: 0 | F10: =IFERROR((E10/D10),0) -> 0 | G10: MID | H10: =100%-F10 -> 1
A11: 006 | B11: Office of the Executive Mayor | D11: =Projects!G55 -> 1836700 | E11: =Projects!O55+Projects!O57 -> 0 | F11: =IFERROR((E11/D11),0) -> 0 | G11: MEMO | H11: =100%-F11 -> 1
A12: 007 | B12: Social Development & Community Services | D12: 0 | E12: 0 | F12: =IFERROR((E12/D12),0) -> 0 | G12: MSDCS | H12: 0
A13: 008 | B13: Disaster | D13: =+Projects!G18 -> 2850000 | E13: 0 | F13: =IFERROR((E13/D13),0) -> 0 | G13: MM | H13: 0
A14: 009 | B14: Health | D14: =Projects!G12 -> 800000 | E14: 0 | F14: =IFERROR((E14/D14),0) -> 0 | G14: MSDCS | H14: =100%-F14 -> 1
A15: 020 | B15: Abattoir | D15: =Projects!G30 -> 0 | E15: 0 | F15: =IFERROR((E15/D15),0) -> 0 | G15: MID | H15: 0
B16: Total By Vote (Balanced to Cash Flow) | D16: =SUM(D6:D15) -> 18432340 | E16: =SUM(E6:E15) -> 0 | F16: =(E16/D16) -> 0 | H16: =100%-F16 -> 1
B18: Projections, including roll overs, have not yet been calculated / approved by Council
